BEGIN:VCALENDAR
VERSION:2.0
PRODID:-//ExpressionEngine Easy iCalendar plugin//NONSGML v1.1.1//EN
BEGIN:VEVENT
UID:event
LOCATION:The Heyman Center\, Second Floor Common Room
DTSTAMP:20210221T33000Z
DTSTART;TZID=America/New_York:20161004T120000
DTEND;TZID=America/New_York:
SUMMARY:Publishing Scholarly Books Successfully in the 21st Century
DESCRIPTION:Norm Hirschy\, Senior Editor in the Academic and Trade Divisi
 on of Oxford University Press\, will speak about the process 
 of successfully getting a scholarly book published — inclu
 ding advice for turning the PhD dissertation into a book and
  stylistic techniques for crafting the book proposal. The ev
 ent is co-sponsored by the Heyman Center for the Humanities 
 and the Dean of Humanities. Postdoctoral fellows and graduat
 e students in the humanities are invited to attend. 
END:VEVENT
END:VCALENDAR