BEGIN:VCALENDAR
VERSION:2.0
PRODID:-//ExpressionEngine Easy iCalendar plugin//NONSGML v1.1.1//EN
BEGIN:VEVENT
UID:event
LOCATION:The Heyman Center\, Second Floor Common Room
DTSTAMP:20210221T33200Z
DTSTART;TZID=America/New_York:20161006T181500
DTEND;TZID=America/New_York:
SUMMARY:“Symbiosis of Nature and Art: a new Neo-Mannerism?”
DESCRIPTION:Horst Bredekamp presents the next installment of the Lionel 
 Trilling Seminar. 
END:VEVENT
END:VCALENDAR