BEGIN:VCALENDAR
VERSION:2.0
PRODID:-//ExpressionEngine Easy iCalendar plugin//NONSGML v1.1.1//EN
BEGIN:VEVENT
UID:event
LOCATION:\, 501 Dodge Hall
DTSTAMP:20210221T33400Z
DTSTART;TZID=America/New_York:20161012T190000
DTEND;TZID=America/New_York:20161012T210000
SUMMARY:Poetry Reading: Shane McCrae & Monica Youn
DESCRIPTION:Poetry reading by Shane McCrae and Moniac Youn. 
END:VEVENT
END:VCALENDAR