BEGIN:VCALENDAR
VERSION:2.0
PRODID:-//ExpressionEngine Easy iCalendar plugin//NONSGML v1.1.1//EN
BEGIN:VEVENT
UID:event
LOCATION:The Heyman Center\, Second Floor Common Room
DTSTAMP:20210221T33800Z
DTSTART;TZID=America/New_York:20161013T100000
DTEND;TZID=America/New_York:20161014T200000
SUMMARY:The Long Poem Conference
DESCRIPTION:From The Waste Land to recent sprawling Conceptualist and co
 mputer generated mega-texts\, the long poem has paradoxically
  operated as both a kind of generic contradiction (as Ezra P
 ound put it\, “dichtung=condensare”) and as the apotheosi
 s of the poetic mode altogether. How do we understand the dy
 namics of such a form\, and how do we classify its various in
 stantiations? What does the long poem reveal about the world
  that is unknowable in another form?\n\n 
END:VEVENT
END:VCALENDAR