BEGIN:VCALENDAR
VERSION:2.0
PRODID:-//ExpressionEngine Easy iCalendar plugin//NONSGML v1.1.1//EN
BEGIN:VEVENT
UID:event
LOCATION:\, Jerome Greene Annex (Fri)\, Heyman Center Second Floor Comm
 on Room (Sat)
DTSTAMP:20210221T33600Z
DTSTART;TZID=America/New_York:20161014T170000
DTEND;TZID=America/New_York:20161015T000000
SUMMARY:Docile Individuals? Privacy\, Community\, & State
DESCRIPTION:In conditions of shrinking private liberty and growing publi
 c apathy and personal anomie\, what is meaningful individuali
 ty? How is individual freedom to be thought fruitfully in th
 e face of the threat of surveillance\, by the state as well a
 s private actors? What are origins of individual docility\, a
 nd possible sources of resistance? This conference brings to
 gether scholars from various fields to examine in an interdi
 sciplinary discussion the meaning of individuality and indiv
 idual liberty in today’s society. 
END:VEVENT
END:VCALENDAR