BEGIN:VCALENDAR
VERSION:2.0
PRODID:-//ExpressionEngine Easy iCalendar plugin//NONSGML v1.1.1//EN
BEGIN:VEVENT
UID:event
LOCATION:The Heyman Center\, Second Floor Common Room
DTSTAMP:20210221T33400Z
DTSTART;TZID=America/New_York:20161018T183000
DTEND;TZID=America/New_York:
SUMMARY:Celebrating Recent Work by Elizabeth Povinelli & Lila Abu-Lu
 ghod
DESCRIPTION:New Books in the Arts & Sciences\n\n         —panel dis
 cussions celebrating recent work by the Columbia Faculty
END:VEVENT
END:VCALENDAR