BEGIN:VCALENDAR
VERSION:2.0
PRODID:-//ExpressionEngine Easy iCalendar plugin//NONSGML v1.1.1//EN
BEGIN:VEVENT
UID:event
LOCATION:\, Maison Française
DTSTAMP:20210221T33900Z
DTSTART;TZID=America/New_York:20161026T160000
DTEND;TZID=America/New_York:
SUMMARY:Filming at the Borders: Welcome to Refugeestan (Bienvenue au
  Réfugistan)
DESCRIPTION:A special film series curated by Nora Philippe and presented
  by the Columbia Maison Française. Co-sponsors at Columbia 
 University are the Columbia Maison Française\, European Inst
 itute\, the European Union's Getting to Know Europe Program\, 
 School of the Arts\, MA in Film Studies – School of the Art
 s\, Columbia Center for Contemporary Critical Theory\, Heyman 
 Center for the Humanities\, Alliance Program\, Institute for t
 he Study of Human Rights\, Institute of African Studies\, and 
 Columbia Global Centers – Europe.
END:VEVENT
END:VCALENDAR