BEGIN:VCALENDAR
VERSION:2.0
PRODID:-//ExpressionEngine Easy iCalendar plugin//NONSGML v1.1.1//EN
BEGIN:VEVENT
UID:event
LOCATION:The Heyman Center\, Second Floor Common Room
DTSTAMP:20210221T33200Z
DTSTART;TZID=America/New_York:20161024T181500
DTEND;TZID=America/New_York:
SUMMARY:Celebrating Recent Work by Manan Ahmed
DESCRIPTION:New Books in the Arts & Sciences: Panel discussions celebrat
 ing recent work by the Columbia Faculty 
END:VEVENT
END:VCALENDAR