BEGIN:VCALENDAR
VERSION:2.0
PRODID:-//ExpressionEngine Easy iCalendar plugin//NONSGML v1.1.1//EN
BEGIN:VEVENT
UID:event
LOCATION:\, The Diana Center\, Barnard College
DTSTAMP:20210221T33600Z
DTSTART;TZID=America/New_York:20161028T100000
DTEND;TZID=America/New_York:20161028T183000
SUMMARY:Hurston at 125: Engaging with the Work and Legacy of Zora Ne
 ale Hurston
DESCRIPTION:Zora Neale Hurston\, a graduate of Barnard College and Columb
 ia University\, has received great acclaim for her literary w
 ork\, particularly the highly influential novel Their Eyes W
 ere Watching God. In honor of the 125th anniversary of her b
 irth\, Barnard celebrates Hurston’s legacy with a one-day s
 ymposium that brings together emerging scholars whose work b
 uilds upon Hurston’s less wellknown training in anthropolo
 gy and interdisciplinary modes of expression. 
END:VEVENT
END:VCALENDAR