BEGIN:VCALENDAR
VERSION:2.0
PRODID:-//ExpressionEngine Easy iCalendar plugin//NONSGML v1.1.1//EN
BEGIN:VEVENT
UID:event
LOCATION:The Heyman Center\, Second Floor Common Room
DTSTAMP:20210221T33200Z
DTSTART;TZID=America/New_York:20161130T181500
DTEND;TZID=America/New_York:
SUMMARY:Citizen Subject: A Conversation with Etienne Balibar
DESCRIPTION:Etienne Balibar discusses his new book\, Citizen Subject\, i
 n conversation with Steven Miller\, Stathis Gourgouris and 
 Emily Apter.
END:VEVENT
END:VCALENDAR