BEGIN:VCALENDAR
VERSION:2.0
PRODID:-//ExpressionEngine Easy iCalendar plugin//NONSGML v1.1.1//EN
BEGIN:VEVENT
UID:event
LOCATION:The Heyman Center\, Second Floor Common Room
DTSTAMP:20210221T33000Z
DTSTART;TZID=America/New_York:20160928T130000
DTEND;TZID=America/New_York:20160928T143000
SUMMARY:Liz Ševčenko on Civic Engagement and the Humanities
DESCRIPTION:Liz Ševčenko will speak about her work bringing together 
 faculty\, students\, and community partners around the country
  into public engagement with urgent social issues. Liz was F
 ounding Director of the International Coalition of Sites of
  Conscience\, Director of the Guantanamo Public Memory Proje
 ct at Columbia's Institute for the Study of Human Rights 
 and is currently Director of the Humanities Action Lab at 
 the New School. 
END:VEVENT
END:VCALENDAR