BEGIN:VCALENDAR
VERSION:2.0
PRODID:-//ExpressionEngine Easy iCalendar plugin//NONSGML v1.1.1//EN
BEGIN:VEVENT
UID:event
LOCATION:The Heyman Center\, Second Floor Common Room
DTSTAMP:20210221T33200Z
DTSTART;TZID=America/New_York:20160916T173000
DTEND;TZID=America/New_York:20160916T184500
SUMMARY:Field Notes from the Muslim International with Sohail Daulat
 zai
DESCRIPTION:Visual artists and filmmakers\, writers and hip-hop poets pla
 yed a key role in linking discontent and unrest in Harlem\, L
 os Angeles and Chicago with anticolonial revolutions in Alge
 ria\, Egypt\, Palestine\, and elsewhere\, and frequently looked 
 to struggles in the Muslim Third World for inspiration and s
 olidarity in the quest for social justice. In the words of M
 alcolm X said in 1962\, “the same rebellion\, the same impat
 ience\, the same anger that exists in the hearts of the dark 
 people in Africa and Asia\, is existing in the hearts and min
 ds of 20 million black people in this country who have been 
 just as thoroughly colonized as the people in Africa and Asi
 a.”
END:VEVENT
END:VCALENDAR