BEGIN:VCALENDAR
VERSION:2.0
PRODID:-//ExpressionEngine Easy iCalendar plugin//NONSGML v1.1.1//EN
BEGIN:VEVENT
UID:event
LOCATION:Jerome Greene Hall (Law School)\, Jerome Greene Hall\, Room 10
 3
DTSTAMP:20210221T33800Z
DTSTART;TZID=America/New_York:20161010T181500
DTEND;TZID=America/New_York:
SUMMARY:Invisible Men: Panel Discussion Celebrating Flores Forbes’
  New Book
DESCRIPTION:Reading and discussion of Flores Forbes' new book Invisible
  Men: A Contemporary Slave Narrative in the Era of Mass In
 carceration
END:VEVENT
END:VCALENDAR