BEGIN:VCALENDAR
VERSION:2.0
PRODID:-//ExpressionEngine Easy iCalendar plugin//NONSGML v1.1.1//EN
BEGIN:VEVENT
UID:event
LOCATION:The Heyman Center\, Second Floor Common Room
DTSTAMP:20210221T32700Z
DTSTART;TZID=America/New_York:20161003T190000
DTEND;TZID=America/New_York:
SUMMARY:Writing the Brazilian Telenovela: A Discussion and Q&A with 
 João Emanuel Carneiro
DESCRIPTION:João Emanuel Carneiro is one of Brazil's most prolic and
  acclaimed storytellers across all audiovisual media. Follo
 wing the success of his adapted screenplay for the 1998 Acad
 emy Award nominated feature Central do Brasil\, Carneir
 o ably transitioned to the small screen\, writing for severa
 l of Brazil's most popular television series before creatin
 g the ground-breaking Brazilian telenovela Avenida Brasi
 l.
END:VEVENT
END:VCALENDAR