BEGIN:VCALENDAR
VERSION:2.0
PRODID:-//ExpressionEngine Easy iCalendar plugin//NONSGML v1.1.1//EN
BEGIN:VEVENT
UID:event
LOCATION:\, The Center for Science and Society\, 513 Fayerweather Hall\,
  1180 Amsterdam Ave
DTSTAMP:20210221T32900Z
DTSTART;TZID=America/New_York:20161013T180000
DTEND;TZID=America/New_York:20161013T200000
SUMMARY:The Idea of Freedom of Choice in Neuroscience and History
DESCRIPTION:Being “free to choose” has arguably become a stand-in fo
 r broader concepts of freedom in many parts of the world tod
 ay. How did this happen? Meanwhile\, neuroscientists and beha
 vioral economists have steadily been collecting evidence tha
 t the human brain is often quite poor at making choices. Whe
 re does this leave us\, in an age when choice has become a pr
 oxy for freedom?
END:VEVENT
END:VCALENDAR