BEGIN:VCALENDAR
VERSION:2.0
PRODID:-//ExpressionEngine Easy iCalendar plugin//NONSGML v1.1.1//EN
BEGIN:VEVENT
UID:event
LOCATION:\, Joe's Pub\, 425 Lafayette St (bet. E. 4th St & Astor Pl) Ne
 w York\, NY 10003
DTSTAMP:20210221T33900Z
DTSTART;TZID=America/New_York:20161024T190000
DTEND;TZID=America/New_York:
SUMMARY:Event of Note: Dan Hoyle’s “The Real Americans”
DESCRIPTION:Escaping the liberal urban bubble\, award-winning playwright 
 and performer Dan Hoyle spent 100 days traveling through 
 small-town America. Living out of his van\, he found himself 
 sharing meals and conversations with union coal miners\, rura
 l drug dealers\, anti-war Veterans\, and closeted gay creation
  theory experts\, among others. Hoyle sought to see the wor
 ld through their eyes\, and found himself at ground zero of o
 ur country’s growing economic inequality and polarized pol
 itics. For event details\, please click here. 
END:VEVENT
END:VCALENDAR