BEGIN:VCALENDAR
VERSION:2.0
PRODID:-//ExpressionEngine Easy iCalendar plugin//NONSGML v1.1.1//EN
BEGIN:VEVENT
UID:event
LOCATION:\, Jerome Greene Annex
DTSTAMP:20210221T33600Z
DTSTART;TZID=America/New_York:20161013T181500
DTEND;TZID=America/New_York:20161013T204500
SUMMARY:Nietzsche 13/13: Maurice Blanchot
DESCRIPTION:This is the third seminar in the Nietzsche 13/13 seminar se
 ries. 3/13: Maurice Blanchot. Maurice Blanchot was heavily 
 influenced by Nietzsche early on\, and wrote several works th
 at directly and indirectly engaged Nietzsche’s thought. Li
 ke Bataille\, Blanchot took a holistic approach and often foc
 used on the fragments. This session will explore his relatio
 n to Nietzsche and how it influenced subsequent critical thi
 nkers.
END:VEVENT
END:VCALENDAR