BEGIN:VCALENDAR
VERSION:2.0
PRODID:-//ExpressionEngine Easy iCalendar plugin//NONSGML v1.1.1//EN
BEGIN:VEVENT
UID:event
LOCATION:\, Roone Arledge Auditorium\, Lerner Hall
DTSTAMP:20210221T32700Z
DTSTART;TZID=America/New_York:20161019T173000
DTEND;TZID=America/New_York:20161019T203000
SUMMARY:Justice Forum | Unlocking Potential: Education is the Key
DESCRIPTION:As we celebrate Latino Heritage Month\, please join us for 
 a panel discussion that will outline the various benefits 
 derived from facilitating access to higher education for 
 Black and Latino men and women\, who are disproportionately
  impacted by mass incarceration.
END:VEVENT
END:VCALENDAR