BEGIN:VCALENDAR
VERSION:2.0
PRODID:-//ExpressionEngine Easy iCalendar plugin//NONSGML v1.1.1//EN
BEGIN:VEVENT
UID:event
LOCATION:The Heyman Center\, Second Floor Common Room
DTSTAMP:20210221T33700Z
DTSTART;TZID=America/New_York:20161026T123000
DTEND;TZID=America/New_York:20161026T140000
SUMMARY:Bringing Engaged Scholarship to the Humanities Classroom
DESCRIPTION:Are you interested in community impact? Do you wish your stu
 dents were more civically engaged? Come to our workshop on B
 ringing Engaged Scholarship to the Humanities Classroom. You
 ’ll learn about models for engaged scholarship\, be inspire
 d by service learning projects around the country\, and begin
  to map out your own path to creating service learning exper
 iences for your students.
END:VEVENT
END:VCALENDAR