BEGIN:VCALENDAR
VERSION:2.0
PRODID:-//ExpressionEngine Easy iCalendar plugin//NONSGML v1.1.1//EN
BEGIN:VEVENT
UID:event
LOCATION:\, Austin E. Quigley Black Box Theatre\, Lerner Hall
DTSTAMP:20210221T33700Z
DTSTART;TZID=America/New_York:20161109T181500
DTEND;TZID=America/New_York:
SUMMARY:Crossing the Divide | Veteran Playwrights at Columbia: An ev
 ening of plays and dialogue
DESCRIPTION:REGISTER HERE Dramatic reading featuring work by three veter
 an playwrights-- Maurice Decaul\, Jenny Pacanowski\, and Johnn
 y Meyer-- read by actors and military veterans from the Bedl
 am Outreach community. Performance followed by a roundtable 
 discussion moderated by playwright Dan Hoyle.
END:VEVENT
END:VCALENDAR