BEGIN:VCALENDAR
VERSION:2.0
PRODID:-//ExpressionEngine Easy iCalendar plugin//NONSGML v1.1.1//EN
BEGIN:VEVENT
UID:event
LOCATION:The Heyman Center\, Second Floor Common Room
DTSTAMP:20210221T33700Z
DTSTART;TZID=America/New_York:20170324T121500
DTEND;TZID=America/New_York:
SUMMARY:Celebrating Recent Work by Liza Knapp and Irina Reyfman
DESCRIPTION:Anna Karenina and Others: Tolstoy’s Labyrinth of Plots\n
 \nby Liza Knapp\n\nHow Russia Learned to Write: Literature and 
 the Imperial Table of Ranks\n\nby Irina Reyfman
END:VEVENT
END:VCALENDAR