BEGIN:VCALENDAR
VERSION:2.0
PRODID:-//ExpressionEngine Easy iCalendar plugin//NONSGML v1.1.1//EN
BEGIN:VEVENT
UID:event
LOCATION:The Heyman Center\, Fri (Heyman Center 2nd Floor Common Room)
  Sat (IAB 1512)
DTSTAMP:20210221T33300Z
DTSTART;TZID=America/New_York:20161021T90000
DTEND;TZID=America/New_York:20161022T000000
SUMMARY:International Workshop on Historical Dialogue & Mass Atrocit
 y Prevention
DESCRIPTION:This conference will explore how history can also engage wit
 h conflict resolution processes and the work of mass atroci
 ty prevention. Topics will include textbooks\, museums\, hist
 orical commissions\, archives\, collective memory\, and perfor
 mative history.
END:VEVENT
END:VCALENDAR