BEGIN:VCALENDAR
VERSION:2.0
PRODID:-//ExpressionEngine Easy iCalendar plugin//NONSGML v1.1.1//EN
BEGIN:VEVENT
UID:event
LOCATION:\, Jerome Greene Annex
DTSTAMP:20210221T33700Z
DTSTART;TZID=America/New_York:20161027T181500
DTEND;TZID=America/New_York:20161027T204500
SUMMARY:Nietzsche 13/13: Gilles Deleuze
DESCRIPTION:This is the fourth seminar in the Nietzsche 13/13 series. 
 Perhaps more than many other critical theorists\, Gilles Dele
 uze’s thought was highly influenced by Nietzsche\, and Dele
 uze’s name is inextricably linked to Nietzsche’s through
  his two signature books. In this session\, we will focus on 
 these two important works. 
END:VEVENT
END:VCALENDAR