BEGIN:VCALENDAR
VERSION:2.0
PRODID:-//ExpressionEngine Easy iCalendar plugin//NONSGML v1.1.1//EN
BEGIN:VEVENT
UID:event
LOCATION:\, Jerome Greene Annex
DTSTAMP:20210221T33400Z
DTSTART;TZID=America/New_York:20161201T100000
DTEND;TZID=America/New_York:
SUMMARY:Nietzsche 13/13 Presents Alain Badiou & Bruno Bosteels: Lect
 ures on Nietzsche
DESCRIPTION:In addition to the 13 Nietzsche 13/13 seminars\, we are deli
 ghted to present several extraordinary lectures and workshop
 s to complement the conversation. These events are also open
  to the public. The first is:\n\nAlain Badiou\, École normale
  supérieure\,\n\nwith Bruno Bosteels\, Columbia University\n\nLe
 ctures on Nietzsche\n\nPlease click here for details and more 
 information.
END:VEVENT
END:VCALENDAR