BEGIN:VCALENDAR
VERSION:2.0
PRODID:-//ExpressionEngine Easy iCalendar plugin//NONSGML v1.1.1//EN
BEGIN:VEVENT
UID:event
LOCATION:\, Jerome Greene Annex & Heyman Center Second Floor Common Ro
 om
DTSTAMP:20210221T33900Z
DTSTART;TZID=America/New_York:20161201T181500
DTEND;TZID=America/New_York:20161202T000000
SUMMARY:Brexit Before and Beyond
DESCRIPTION:On June 23\, 2016 a slim majority of the people of the Unite
 d Kingdom voted to leave the European Union by national refe
 rendum. The reasons that led to this historic vote\, ending f
 orty-three years of UK membership in the EU\, are still being
  widely debated\, as are the potential ramifications. This tw
 o-day event brings together journalists and scholars from Eu
 ropean and American universities to uncover both the underly
 ing issues that precipitated the UK's decision to separate f
 rom the EU as well as the ongoing fallout from the "Brexit" 
 vote\, especially for those of us working in global universit
 ies. 
END:VEVENT
END:VCALENDAR