BEGIN:VCALENDAR
VERSION:2.0
PRODID:-//ExpressionEngine Easy iCalendar plugin//NONSGML v1.1.1//EN
BEGIN:VEVENT
UID:event
LOCATION:\, Maison Française
DTSTAMP:20210221T33300Z
DTSTART;TZID=America/New_York:20161103T130000
DTEND;TZID=America/New_York:20161103T150000
SUMMARY:Illiberal Populism in Europe
DESCRIPTION:In this event on the ascension of “Illiberal Populism in
  Europe”\, Pippa Norris and Jan Kubik will discuss the vari
 ous manifestations of illiberal populism-past and current\, m
 ainstream and fringe- in both Eastern and Western Europe. Th
 e panel\, with discussant Sheri Berman and moderator Alan Tim
 berlake\, will probe issues such as the origins of illiberal 
 populism and its effects on the political systems in Europe 
 and the future of the European Union.
END:VEVENT
END:VCALENDAR