BEGIN:VCALENDAR
VERSION:2.0
PRODID:-//ExpressionEngine Easy iCalendar plugin//NONSGML v1.1.1//EN
BEGIN:VEVENT
UID:event
LOCATION:\, Starr East Asian Library Reading Room
DTSTAMP:20210221T32600Z
DTSTART;TZID=America/New_York:20161202T180000
DTEND;TZID=America/New_York:
SUMMARY:Celebrating Recent Work by Paul Anderer
DESCRIPTION:With fresh insights and vivid prose\,Â AndererÂ engages the G
 reat Earthquake of 1923\, the dynamic energy that surged thro
 ugh Tokyo in its wake\, and its impact onÂ KurosawaÂ as a you
 th. When the city is destroyed again\, in the fire-bombings o
 f 1945\,Â AndererÂ reveals howÂ KurosawaÂ grappled with the t
 rauma of war and its aftermath\, and forged his artistic visi
 on. Finally\, he resurrects the specter and the voice of a gi
 fted and troubled older brotherâ€”himself a star in the sile
 nt film industryâ€”who tookÂ KurosawaÂ to see his first film
 s\, and who led a rebellious life until his desperate end. Br
 inging these formative forces into focus\,Â AndererÂ looks be
 yond the aura of Kurosawaâ€™s fame and leads us deeper into 
 the tragedies and the challenges of his past.Â Kurosawaâ€™sÂ
  RashomonÂ uncovers how a film likeÂ RashomonÂ came to be\, a
 nd why it endures to illuminate the shadows and the challeng
 es of our present.
END:VEVENT
END:VCALENDAR