BEGIN:VCALENDAR
VERSION:2.0
PRODID:-//ExpressionEngine Easy iCalendar plugin//NONSGML v1.1.1//EN
BEGIN:VEVENT
UID:event
LOCATION:\, Philosophy Hall Room 716
DTSTAMP:20210221T33600Z
DTSTART;TZID=America/New_York:20161028T90000
DTEND;TZID=America/New_York:20161029T000000
SUMMARY:Epistemology After Sextus Empiricus
DESCRIPTION:A book project and two conferences at Columbia University an
 d UC Berkeley. Epistemology After Sextus Empiricus cover
 s themes from Sextus Empiricus that have greatly shaped t
 he history of epistemology. Relevant topics include the natu
 re of investigation\, perception and illusion\, perceptual re
 lativism\, ignorance\, belief-formation\, induction\, infinite r
 egress\, assertion\, disagreement and conflicting appearances
 . Some chapters in the book are concerned with the reception
  of ideas from Sextus Empiricus\; others are more immediate
 ly about skeptical arguments and themes. The book is part o
 f a larger effort\, namely to bring to the fore the philosoph
 ical sophistication of Hellenistic philosophy which continue
 s to be less widely studied than Plato and Aristotle. Ancie
 nt skepticism addresses questions which remain highly releva
 nt today.
END:VEVENT
END:VCALENDAR