BEGIN:VCALENDAR
VERSION:2.0
PRODID:-//ExpressionEngine Easy iCalendar plugin//NONSGML v1.1.1//EN
BEGIN:VEVENT
UID:event
LOCATION:\, Jerome Greene Annex
DTSTAMP:20210221T33100Z
DTSTART;TZID=America/New_York:20161110T181500
DTEND;TZID=America/New_York:20161110T204500
SUMMARY:Nietzsche 13/13: Hannah Arendt
DESCRIPTION:At the end of her life\, Hannah Arendt was writing a series o
 f volumes on The Life of the Mind\, the second of which enga
 ged the thought of Nietzsche. This session will explore her 
 engagement With Nietzsche. With Seyla Benhabib\, Simona F
 orti\, Ayten Gundogdu\, and Linda Zerilli. 
END:VEVENT
END:VCALENDAR