BEGIN:VCALENDAR
VERSION:2.0
PRODID:-//ExpressionEngine Easy iCalendar plugin//NONSGML v1.1.1//EN
BEGIN:VEVENT
UID:event
LOCATION:Pulitzer Hall (formerly Journalism Hall)\, Room 301
DTSTAMP:20210221T33900Z
DTSTART;TZID=America/New_York:20161130T181500
DTEND;TZID=America/New_York:
SUMMARY:Dan Hoyle’s THE REAL AMERICANS
DESCRIPTION:Escaping the liberal urban bubble\, award-winning playwright 
 and performer Dan Hoyle spent 100 days traveling through s
 mall-town America. Living out of his van\, he found himself s
 haring meals and conversations with union coal miners\, rural
  drug dealers\, anti-war Veterans\, and closeted gay creation 
 theory experts\, among others. Hoyle sought to see the worl
 d through their eyes\, and found himself at ground zero of ou
 r country’s growing economic inequality and polarized poli
 tics.
END:VEVENT
END:VCALENDAR