BEGIN:VCALENDAR
VERSION:2.0
PRODID:-//ExpressionEngine Easy iCalendar plugin//NONSGML v1.1.1//EN
BEGIN:VEVENT
UID:event
LOCATION:The Heyman Center\, Second Floor Common Room
DTSTAMP:20210221T33900Z
DTSTART;TZID=America/New_York:20161116T123000
DTEND;TZID=America/New_York:20161116T140000
SUMMARY:Bridging the Gap: Humanities in Action
DESCRIPTION:Columbia graduate students are engaging with local and globa
 l communities in amazing ways. Columbia scholars are collabo
 rating with high school students\, the formerly incarcerated\,
  underserved groups\, and public audiences globally\, bridging
  the gap between the academy and the world. Come hear them s
 peak at our lightning talk event. Get inspired!\n\nThis talk i
 s part of Engaged Scholarship\, a series of talks\, workshops\,
  and panels to promote partnerships for developing engaging 
 learning experiences and sharing resources across the univer
 sity/community divide.
END:VEVENT
END:VCALENDAR