BEGIN:VCALENDAR
VERSION:2.0
PRODID:-//ExpressionEngine Easy iCalendar plugin//NONSGML v1.1.1//EN
BEGIN:VEVENT
UID:event
LOCATION:Pulitzer Hall (formerly Journalism Hall)\, World Room
DTSTAMP:20210221T33500Z
DTSTART;TZID=America/New_York:20161121T180000
DTEND;TZID=America/New_York:20161121T190000
SUMMARY:Global Hot Spots: Turkey in the World
DESCRIPTION:SOLD OUT *Please Note Location Change* REGISTRATION REQUIRE
 D HERE. Orhan Pamuk\, Robert Yik-Fong Tam Professor of the
  Humanities\; Fellow\, The Committee on Global Thought\n\nN. Tu
 rkuler Isiksel\, James P. Shenton Assistant Professor of t
 he Core Curriculum\, Political Science\n\nMark Mazower\, Comme
 ntator\, Ira D. Wallach Professor of History\n\nCarol Gluck
 \, Moderator\, George Sansom Professor of History\; Chair\, 
 The Committee on Global Thought
END:VEVENT
END:VCALENDAR