BEGIN:VCALENDAR
VERSION:2.0
PRODID:-//ExpressionEngine Easy iCalendar plugin//NONSGML v1.1.1//EN
BEGIN:VEVENT
UID:event
LOCATION:The Heyman Center\, Second Floor Common Room
DTSTAMP:20210221T32700Z
DTSTART;TZID=America/New_York:20161118T180000
DTEND;TZID=America/New_York:
SUMMARY:What is Populism?
DESCRIPTION:Populists are on the rise across the globe\, but what exactly
  is populism? Does populism bring government closer to the p
 eople or is it a threat to democracy? Who are "the people" a
 nyway and who can speak in their name?
END:VEVENT
END:VCALENDAR