BEGIN:VCALENDAR
VERSION:2.0
PRODID:-//ExpressionEngine Easy iCalendar plugin//NONSGML v1.1.1//EN
BEGIN:VEVENT
UID:event
LOCATION:The Heyman Center\, Second Floor Common Room
DTSTAMP:20210221T33700Z
DTSTART;TZID=America/New_York:20161129T153000
DTEND;TZID=America/New_York:20161129T173000
SUMMARY:What Would it Mean to Understand Climate Change?
DESCRIPTION:Efforts abound to “understand” climate change. But what 
 kind of understanding is needed? Does “understanding” me
 an the same thing to concerned citizens as it does to scient
 ists\, humanities scholars\, or policy makers? At this public 
 event\, climate scientist Isaac Held\, philosopher of science 
 Philip Kitcher\, and science journalist Jonathan Weiner will 
 compare the work of understanding undertaken by different co
 mmunities engaged with climate change\, and address the quest
 ion of what remains to be understood.
END:VEVENT
END:VCALENDAR