BEGIN:VCALENDAR
VERSION:2.0
PRODID:-//ExpressionEngine Easy iCalendar plugin//NONSGML v1.1.1//EN
BEGIN:VEVENT
UID:event
LOCATION:The Heyman Center\, Second Floor Common Room
DTSTAMP:20210221T32800Z
DTSTART;TZID=America/New_York:20161212T180000
DTEND;TZID=America/New_York:
SUMMARY:Techniques of the Body
DESCRIPTION:Please join us for a screening of Mark Mazower and Constanti
 ne Giannaris's 2016 film Techniques of the Body and a discus
 sion between Mark Mazower (Ira D. Wallach Professor\, Departm
 ent of History\, Columbia University) and Naor Ben-Yehoyada (
 Assistant Professor\, Department of Anthropology\, Columbia Un
 iversity). This is The Seminar in Modern Greek's third meeti
 ng of the year.
END:VEVENT
END:VCALENDAR