BEGIN:VCALENDAR
VERSION:2.0
PRODID:-//ExpressionEngine Easy iCalendar plugin//NONSGML v1.1.1//EN
BEGIN:VEVENT
UID:event
LOCATION:The Heyman Center\, Second Floor Common Room
DTSTAMP:20210221T33000Z
DTSTART;TZID=America/New_York:20161209T181500
DTEND;TZID=America/New_York:
SUMMARY:CualaNYC Story Shebeen
DESCRIPTION:Cuala Foundation\, Inc. (formerly Cuala Productions) will 
 return to the Heyman Center for the Humanities to partner 
 for one more New York event of 2016 with a CualaNYC Story
  Shebeen on Friday 9 December at 6:15. The event will be l
 ive streamed and will launch 'New York Rising\, 'a graphic n
 ovel that tells the story of New York and the Irish 1916 Ris
 ing\, and how it affected many communities in New York at the
  time and people such as Elizabeth Gurley Flynn\, Marcus Ga
 rvey\, Cyril Briggs and Joyce Kilmer and Claude McKay who w
 ere inspired to organize\, to write and to make their voices 
 heard in creative ways.
END:VEVENT
END:VCALENDAR