BEGIN:VCALENDAR
VERSION:2.0
PRODID:-//ExpressionEngine Easy iCalendar plugin//NONSGML v1.1.1//EN
BEGIN:VEVENT
UID:event
LOCATION:\, Harriman Institute Atrium (420 W 118th St\, 12th Floor)
DTSTAMP:20210221T33000Z
DTSTART;TZID=America/New_York:20161130T183000
DTEND;TZID=America/New_York:
SUMMARY:Screening and Discussion: Videos by Moscow-based artist Olga
  Chernysheva
DESCRIPTION:Russian artist Olga Chernysheva (b. Moscow\, 1962) mines t
 he post-Soviet aspirations and realities of her native Russi
 a in her photographs\, videos\, paintings and drawings. This s
 creening and discussion of Chernysheva's moving image work
  will be introduced by Nova Benway\, curator of Vague Acce
 nt\, Chernysheva's current exhibition at The Drawing Cente
 r\, and Julia Tulovsky\, Curator of Russian and Soviet Nonco
 nformist Art at the Zimmerli Art Museum\, Rutgers Universit
 y. 
END:VEVENT
END:VCALENDAR