BEGIN:VCALENDAR
VERSION:2.0
PRODID:-//ExpressionEngine Easy iCalendar plugin//NONSGML v1.1.1//EN
BEGIN:VEVENT
UID:event
LOCATION:Jerome Greene Hall (Law School)\, Room 103
DTSTAMP:20210221T33000Z
DTSTART;TZID=America/New_York:20161208T183000
DTEND;TZID=America/New_York:
SUMMARY:Feminism/Realism: Elena Ferrante
DESCRIPTION:Alessia Ricciardi (Professor Of Italian And Comparative Li
 terature\, Northwestern University) discussing "A Story of En
 trustment: Elena Ferrante’s Neapolitan Novels" and David
  Kurnick (Associate Professor of English\, Rutgers Universi
 ty) discussing "Ferrante Talk and the Scales of Contemporar
 y Realism” with Respondent: Rebecca Falkoff (Assistant
  Professor of Italian\, NYU). 
END:VEVENT
END:VCALENDAR