BEGIN:VCALENDAR
VERSION:2.0
PRODID:-//ExpressionEngine Easy iCalendar plugin//NONSGML v1.1.1//EN
BEGIN:VEVENT
UID:event
LOCATION:The Heyman Center\, Second Floor Common Room
DTSTAMP:20210221T33700Z
DTSTART;TZID=America/New_York:20161207T190000
DTEND;TZID=America/New_York:
SUMMARY:Leonard Cohen: A Retrospective
DESCRIPTION:Roundtable: Austin Graham\, Mason Golden\, Anton Vishio\, and 
 Carina del Valle Schorske
END:VEVENT
END:VCALENDAR