BEGIN:VCALENDAR
VERSION:2.0
PRODID:-//ExpressionEngine Easy iCalendar plugin//NONSGML v1.1.1//EN
BEGIN:VEVENT
UID:event
LOCATION:\, 4 rue de Chevreuse\, 75006 Paris\, France
DTSTAMP:20210221T33700Z
DTSTART;TZID=America/New_York:20170105T100000
DTEND;TZID=America/New_York:20170105T170000
SUMMARY:Nietzsche 13/13: Sarah Kofman on Nietzsche
DESCRIPTION:The French philosopher\, Sarah Kofman\, developed new readings
  of Nietzsche and Freud\, and left us with one of the most tr
 enchant interpretations of Freud on female sexuality. This w
 ill be an opportunity to explore her work and her legacy in 
 Paris at the Columbia Global Centers—Europe. The session w
 ill be held in Paris\, but broadcast for faculty and students
  in New York City and elsewhere. Bernard E. Harcourt and Dan
 iele Lorenzini will coordinate the session in Paris. Jesús 
 R. Velasco will coordinate the session in New York. Kofman s
 tudied with Deleuze and attended Derrida’s seminars\, so we
  will put Derrida’s writings in the background as well.
END:VEVENT
END:VCALENDAR