BEGIN:VCALENDAR
VERSION:2.0
PRODID:-//ExpressionEngine Easy iCalendar plugin//NONSGML v1.1.1//EN
BEGIN:VEVENT
UID:event
LOCATION:\, Jerome Greene Annex
DTSTAMP:20210221T33400Z
DTSTART;TZID=America/New_York:20170119T181500
DTEND;TZID=America/New_York:20170119T204500
SUMMARY:Nietzsche 13/13: Frantz Fanon and Critical Race Theory
DESCRIPTION:Frantz Fanon’s masterpiece\, Black Skin\, White Masks (195
 2)\, reflects a deep engagement with the thought of Nietzsche
 \, especially in relation to the themes of the active and rea
 ctive\, and in its engagement with the work of Alfred Adler. 
 In this seminar\, we will explore Fanon’s work and its infl
 uence on critical race theory.
END:VEVENT
END:VCALENDAR