BEGIN:VCALENDAR
VERSION:2.0
PRODID:-//ExpressionEngine Easy iCalendar plugin//NONSGML v1.1.1//EN
BEGIN:VEVENT
UID:event
LOCATION:Pulitzer Hall (formerly Journalism Hall)\, Pulitzer Hall Worl
 d Room\, Columbia Journalism School 3rd Floor
DTSTAMP:20210221T33000Z
DTSTART;TZID=America/New_York:20170125T180000
DTEND;TZID=America/New_York:
SUMMARY:The Way to the Spring: Life and Death in Palestine
DESCRIPTION:In The Way to the Spring\, Ben Ehrenreich describes the crue
 l mechanics of the Israeli occupation and the endless absurd
 ities and tragedies it engenders: the complex and humiliatin
 g machinery of the checkpoints\, walls\, courts\, and prisons\; 
 the steady\, strangling loss of land\; the constant ebb and fl
 ow of deadly violence. Blending political and historical con
 text with the personal stories of the people he meets\, Ehren
 reich records the extremes to which Palestinians are pushed\,
  the daily deprivation and oppression that they face\, and th
 e strategies they construct to resist and survive—stoicism
 \, resignation\, rebellion\, humor\, and a stubborn\, defiant joy
 .
END:VEVENT
END:VCALENDAR