BEGIN:VCALENDAR
VERSION:2.0
PRODID:-//ExpressionEngine Easy iCalendar plugin//NONSGML v1.1.1//EN
BEGIN:VEVENT
UID:event
LOCATION:\, Jerome Greene Annex
DTSTAMP:20210221T33400Z
DTSTART;TZID=America/New_York:20170209T181500
DTEND;TZID=America/New_York:20170209T204500
SUMMARY:Nietzsche 13/13: Foucault & Nietzsche
DESCRIPTION:In his Rio lectures in 1973\, Truth and Juridical Forms\, Fou
 cault targeted what he referred to as “the great Western m
 yth”: the myth that\, in order to achieve knowledge\, one ha
 d to neutralize the effects of power\, the illusion that it i
 s even possible to sever knowledge from power. “This great
  myth needs to be dispelled\,” Foucault stated. “It is th
 is myth which Nietzsche began to demolish by showing… that
 \, behind all knowledge [savoir]\, behind all attainment of kn
 owledge [connaissance]\, what is involved is a struggle for p
 ower. Political power is not absent from knowledge\, it is wo
 ven together with it.”
END:VEVENT
END:VCALENDAR