BEGIN:VCALENDAR
VERSION:2.0
PRODID:-//ExpressionEngine Easy iCalendar plugin//NONSGML v1.1.1//EN
BEGIN:VEVENT
UID:event
LOCATION:The Heyman Center\, Second Floor Common Room
DTSTAMP:20210221T33300Z
DTSTART;TZID=America/New_York:20170220T130000
DTEND;TZID=America/New_York:
SUMMARY:Global Perspectives in Histories of Music Theory
DESCRIPTION:SEE CONFERENCE WEBSITE HERE This conference brings together 
 music scholars and historians of science to develop new insi
 ghts into global histories of music theory.  Together\, our 
 participants investigate convergences and divergences across
  time and place.  With talks on subjects including tuning t
 heories in ancient China and court music in fifteenth-centur
 y Korea\, this event explores how complex concepts in mathema
 tics\, cosmology\, and artisanal practice arose in response to
  similar concerns around classifying pitches\, modes\, and ins
 truments.
END:VEVENT
END:VCALENDAR