BEGIN:VCALENDAR
VERSION:2.0
PRODID:-//ExpressionEngine Easy iCalendar plugin//NONSGML v1.1.1//EN
BEGIN:VEVENT
UID:event
LOCATION:The Heyman Center\, Second Floor Common Room
DTSTAMP:20210221T32900Z
DTSTART;TZID=America/New_York:20170222T190000
DTEND;TZID=America/New_York:
SUMMARY:Burning Issues in African Philosophy
DESCRIPTION:Burning Issues in African Philosophy is curated by Drucilla 
 Cornell and Souleymane Bachir Diagne and presented by the In
 situte of African Studies at Columbia University. It include
 s six seminars with Souleymane Bachir Diagne\, Michael Monaha
 n\, Nkiru Nzegwu\, Olufemi Taiwo\, Nadia Yala Kisukidi\, and Lew
 is Gordon.Burning Issues in African Philosophy builds off of
  the sophisticated work that has now become part of an inter
 national conversation on how African philosophy makes unique
  interventions into almost every important question of polit
 ics\, ethics\, aesthetics\, ontology and epistemology. Indeed\, 
 the very definition of these fundamental philosophical conce
 ptions is both challenged and enriched.
END:VEVENT
END:VCALENDAR