BEGIN:VCALENDAR
VERSION:2.0
PRODID:-//ExpressionEngine Easy iCalendar plugin//NONSGML v1.1.1//EN
BEGIN:VEVENT
UID:event
LOCATION:Jerome Greene Hall (Law School)\, Jerome Greene Annex
DTSTAMP:20210221T33600Z
DTSTART;TZID=America/New_York:20170302T181500
DTEND;TZID=America/New_York:20170302T204500
SUMMARY:Nietzsche 13/13: Irigaray and Nietzsche
DESCRIPTION:Luce Irigaray published a famous book on Nietzsche\, titled 
 Marine Lover of Friedrich Nietzsche\, in 1980\, which will giv
 e us an opportunity to explore in greater depth the relation
  between Nietzsche’s thought and certain strands of contem
 porary critical thought.
END:VEVENT
END:VCALENDAR