BEGIN:VCALENDAR
VERSION:2.0
PRODID:-//ExpressionEngine Easy iCalendar plugin//NONSGML v1.1.1//EN
BEGIN:VEVENT
UID:event
LOCATION:Jerome Greene Hall (Law School)\, Jerome Greene Hall\,  Room 1
 06
DTSTAMP:20210221T33300Z
DTSTART;TZID=America/New_York:20170306T181500
DTEND;TZID=America/New_York:
SUMMARY:Humorlessness/Politics
DESCRIPTION:This paper addresses humorlessness as ontology\, performance\,
  and affect\; and as threat and aspiration. It asks how the e
 ncounter with humorlessness structures the political scene a
 nd style of encounter\, and it looks at how unlearning attach
 ment to some styles of it without repairing its force have b
 een modeled aesthetically as performance. Its cases range fr
 om the League of Revolutionary Black Workers' documentary\, *
 Finally Got the News* (1970) to some contemporary political 
 art of Steve McQueen\, William Pope.L\, and Claire Pentecost. 
 The talk is humorless\, among other things. This is a first f
 oray into a new project.
END:VEVENT
END:VCALENDAR