BEGIN:VCALENDAR
VERSION:2.0
PRODID:-//ExpressionEngine Easy iCalendar plugin//NONSGML v1.1.1//EN
BEGIN:VEVENT
UID:event
LOCATION:\, Casa Hispanica
DTSTAMP:20210221T33700Z
DTSTART;TZID=America/New_York:20170323T180000
DTEND;TZID=America/New_York:20170324T000000
SUMMARY:The Clarice Factor: Aesthetics\, Gender\, and Diaspora in Braz
 il
DESCRIPTION:Thursday\, March 23\, 6pm: Keynote: Bruno Carvalho. Friday\, Ma
 rch 24\, 2-5:30pm: Panels and Discussion. 5:30pm: Keynote: Ma
 rta Peixoto. Wednesday\, March 29\, 7pm: Katrina Dodson: On Tr
 anslating Clarice Lispector. 
END:VEVENT
END:VCALENDAR