BEGIN:VCALENDAR
VERSION:2.0
PRODID:-//ExpressionEngine Easy iCalendar plugin//NONSGML v1.1.1//EN
BEGIN:VEVENT
UID:event
LOCATION:Pulitzer Hall (formerly Journalism Hall)\, Brown Institute\, P
 ulitzer Hall
DTSTAMP:20210221T32900Z
DTSTART;TZID=America/New_York:20170414T170000
DTEND;TZID=America/New_York:20170415T000000
SUMMARY:The Unplugged Soul: A Conference on the Podcast
DESCRIPTION:LISTEN TO CONFERENCE AUDIO HERE ON SOUNDCLOUD  A series of
  unprecedented freedoms – on demand software\, discrete aud
 iences\, portable devices\, cheap production costs\, the bypass
 ing of broadcast infrastructure and with it content restrict
 ions – liberates the podcast from mass media's customary l
 imitations\, and podcasters are now making the most of their 
 new territory. This conference ranges wide in its exploratio
 n of what amounts to a burgeoning new art form captivating l
 isteners worldwide: the "impact bar" has never been higher i
 n a culture brimming with content\, but podcasters and produc
 ers have latched on to ancient verities of storytelling and 
 the new mores of disclosure to win us over – to unplug the
  hyperconnected soul. VISIT CONFERENCE BLOG HERE.
END:VEVENT
END:VCALENDAR