BEGIN:VCALENDAR
VERSION:2.0
PRODID:-//ExpressionEngine Easy iCalendar plugin//NONSGML v1.1.1//EN
BEGIN:VEVENT
UID:event
LOCATION:\, The Italian Academy\, 1161 Amsterdam Avenue
DTSTAMP:20210221T33300Z
DTSTART;TZID=America/New_York:20170202T173000
DTEND;TZID=America/New_York:
SUMMARY:La Serenissima: The Millenarian Venice | Discussion with Jor
 di Savall
DESCRIPTION:Early-music legend and forensic musicologistÂ Jordi SavallÂ 
 discusses the myriad musical styles and influences at play t
 hroughout the thousand-year lifespan of the Venetian Republi
 c. This talk comes on the eve of the opening concert of theÂ
  SerenissimaÂ series which will feature Savall\, his ensemble
 \, and other guest artists.
END:VEVENT
END:VCALENDAR